BEGIN:VCALENDAR
VERSION:2.0
PRODID:-//Seeschwalbe Fan’s Club EHC Biel-Bienne - ECPv6.15.20//NONSGML v1.0//EN
CALSCALE:GREGORIAN
METHOD:PUBLISH
X-ORIGINAL-URL:https://seeschwalbe.ch
X-WR-CALDESC:Veranstaltungen für Seeschwalbe Fan’s Club EHC Biel-Bienne
REFRESH-INTERVAL;VALUE=DURATION:PT1H
X-Robots-Tag:noindex
X-PUBLISHED-TTL:PT1H
BEGIN:VTIMEZONE
TZID:Europe/Zurich
BEGIN:DAYLIGHT
TZOFFSETFROM:+0100
TZOFFSETTO:+0200
TZNAME:CEST
DTSTART:20240331T010000
END:DAYLIGHT
BEGIN:STANDARD
TZOFFSETFROM:+0200
TZOFFSETTO:+0100
TZNAME:CET
DTSTART:20241027T010000
END:STANDARD
BEGIN:DAYLIGHT
TZOFFSETFROM:+0100
TZOFFSETTO:+0200
TZNAME:CEST
DTSTART:20250330T010000
END:DAYLIGHT
BEGIN:STANDARD
TZOFFSETFROM:+0200
TZOFFSETTO:+0100
TZNAME:CET
DTSTART:20251026T010000
END:STANDARD
BEGIN:DAYLIGHT
TZOFFSETFROM:+0100
TZOFFSETTO:+0200
TZNAME:CEST
DTSTART:20260329T010000
END:DAYLIGHT
BEGIN:STANDARD
TZOFFSETFROM:+0200
TZOFFSETTO:+0100
TZNAME:CET
DTSTART:20261025T010000
END:STANDARD
BEGIN:DAYLIGHT
TZOFFSETFROM:+0100
TZOFFSETTO:+0200
TZNAME:CEST
DTSTART:20270328T010000
END:DAYLIGHT
BEGIN:STANDARD
TZOFFSETFROM:+0200
TZOFFSETTO:+0100
TZNAME:CET
DTSTART:20271031T010000
END:STANDARD
END:VTIMEZONE
BEGIN:VEVENT
DTSTART;TZID=Europe/Zurich:20260109T180000
DTEND;TZID=Europe/Zurich:20260109T180000
DTSTAMP:20260421T184939
CREATED:20250820T141420Z
LAST-MODIFIED:20260410T152506Z
UID:10000314-1767981600-1767981600@seeschwalbe.ch
SUMMARY:Ajoie
DESCRIPTION:Wir fahren nach Pruntrut und unterstützen unseren EHC Biel-Bienne in der Raiffeisen Arena. \nAbfahrtzeit: 18:00 Uhr \nWo: Vor der Club Loge Nidau \nFahrtpreise: \nErwachsene: CHF 35.00\nStudenten/Lehrlinge: CHF 25.00\nKinder bis und mit 15 Jahre: CHF 20.00\n(Nicht-Mitglieder + CHF 5.00) \nDas Ticket muss selber organisiert werden.
URL:https://seeschwalbe.ch/event/ajoie-2026-01-09/
LOCATION:Raiffeisen Arena Pruntrut\, Route de Courgenay\, Pruntrut\, Jura\, 2900\, Schweiz
CATEGORIES:Agenda,Supporterfahrten
ATTACH;FMTTYPE=image/png:https://seeschwalbe.ch/wp-content/uploads/2021/08/hc-ajoie-neu.png
ORGANIZER;CN="Seeschwalbe Fan's Club":MAILTO:schwalbe@seeschwalbe.ch
GEO:47.4169889;7.0894735
X-APPLE-STRUCTURED-LOCATION;VALUE=URI;X-ADDRESS=Raiffeisen Arena Pruntrut Route de Courgenay Pruntrut Jura 2900 Schweiz;X-APPLE-RADIUS=500;X-TITLE=Route de Courgenay:geo:7.0894735,47.4169889
END:VEVENT
BEGIN:VEVENT
DTSTART;TZID=Europe/Zurich:20251119T180000
DTEND;TZID=Europe/Zurich:20251119T180000
DTSTAMP:20260421T184939
CREATED:20250803T162639Z
LAST-MODIFIED:20251117T165430Z
UID:10000310-1763575200-1763575200@seeschwalbe.ch
SUMMARY:Ajoie
DESCRIPTION:Wir fahren nach Pruntrut und unterstützen unseren EHC Biel-Bienne in der Raiffeisen Arena. \nAbfahrtzeit: 18:00 Uhr \nWo: Vor der Club Loge Nidau \nFahrtpreise: \nErwachsene: CHF 35.00\nStudenten/Lehrlinge: CHF 25.00\nKinder bis und mit 15 Jahre: CHF 20.00\nKombi-Fahrt: 2x Ajoie (19.11.25\, 09.01.26) mit CHF 10.00 Rabatt \nDas Ticket muss selber organisiert werden.
URL:https://seeschwalbe.ch/event/ajoie-2025-11-19/
LOCATION:Raiffeisen Arena Pruntrut\, Route de Courgenay\, Pruntrut\, Jura\, 2900\, Schweiz
CATEGORIES:Agenda,Supporterfahrten
ATTACH;FMTTYPE=image/png:https://seeschwalbe.ch/wp-content/uploads/2021/08/hc-ajoie-neu.png
ORGANIZER;CN="Seeschwalbe Fan's Club":MAILTO:schwalbe@seeschwalbe.ch
GEO:47.4169889;7.0894735
X-APPLE-STRUCTURED-LOCATION;VALUE=URI;X-ADDRESS=Raiffeisen Arena Pruntrut Route de Courgenay Pruntrut Jura 2900 Schweiz;X-APPLE-RADIUS=500;X-TITLE=Route de Courgenay:geo:7.0894735,47.4169889
END:VEVENT
END:VCALENDAR