BEGIN:VCALENDAR
VERSION:2.0
PRODID:-//Seeschwalbe Fan’s Club EHC Biel-Bienne - ECPv6.15.20//NONSGML v1.0//EN
CALSCALE:GREGORIAN
METHOD:PUBLISH
X-WR-CALNAME:Seeschwalbe Fan’s Club EHC Biel-Bienne
X-ORIGINAL-URL:https://seeschwalbe.ch
X-WR-CALDESC:Veranstaltungen für Seeschwalbe Fan’s Club EHC Biel-Bienne
REFRESH-INTERVAL;VALUE=DURATION:PT1H
X-Robots-Tag:noindex
X-PUBLISHED-TTL:PT1H
BEGIN:VTIMEZONE
TZID:Europe/Zurich
BEGIN:DAYLIGHT
TZOFFSETFROM:+0100
TZOFFSETTO:+0200
TZNAME:CEST
DTSTART:20250330T010000
END:DAYLIGHT
BEGIN:STANDARD
TZOFFSETFROM:+0200
TZOFFSETTO:+0100
TZNAME:CET
DTSTART:20251026T010000
END:STANDARD
BEGIN:DAYLIGHT
TZOFFSETFROM:+0100
TZOFFSETTO:+0200
TZNAME:CEST
DTSTART:20260329T010000
END:DAYLIGHT
BEGIN:STANDARD
TZOFFSETFROM:+0200
TZOFFSETTO:+0100
TZNAME:CET
DTSTART:20261025T010000
END:STANDARD
BEGIN:DAYLIGHT
TZOFFSETFROM:+0100
TZOFFSETTO:+0200
TZNAME:CEST
DTSTART:20270328T010000
END:DAYLIGHT
BEGIN:STANDARD
TZOFFSETFROM:+0200
TZOFFSETTO:+0100
TZNAME:CET
DTSTART:20271031T010000
END:STANDARD
END:VTIMEZONE
BEGIN:VEVENT
DTSTART;VALUE=DATE:20260529
DTEND;VALUE=DATE:20260531
DTSTAMP:20260421T131822
CREATED:20250716T092251Z
LAST-MODIFIED:20260417T065647Z
UID:10000294-1780012800-1780185599@seeschwalbe.ch
SUMMARY:Nidauer Stedtlifest 2026
DESCRIPTION:  \nBesuche uns am Nidauer Stedtlifest 2026. \nFreitag 29. Mai 2025 ab 19:00 Uhr \n\n\n\nFischessen\nBar\nMusik mit DJ Swordfish\n\n\n\nSamstag 30. Mai 2025 ab 9:00 Uhr \n\n\n\nFischessen\nBar\nMusik mit DJ F Le Boiteux\n\n\n\nWie jedes Jahr suchen wir Helferinnen und Helfer für das Nidauer Stedtlifescht. Interessiert können sich direkt auf unserer Website anmelden. \nACHTUNG: Der Seeschwalbe Stand wird wiederum Cashless sein\, d.h. es werden grundsätzlich nur noch Zahlungen per Twint und Karte akzeptiert.
URL:https://seeschwalbe.ch/event/nidauer-stedtlifest-2026/
LOCATION:Festgelände Nidauer Stedtlifest\, Hauptstrasse 46\, Nidau\, Bern\, 2560\, Schweiz
CATEGORIES:Agenda,Sonstige
ATTACH;FMTTYPE=image/jpeg:https://seeschwalbe.ch/wp-content/uploads/2019/01/stedtlifest.jpg
ORGANIZER;CN="Seeschwalbe Fan's Club":MAILTO:schwalbe@seeschwalbe.ch
GEO:47.1246634;7.2437213
X-APPLE-STRUCTURED-LOCATION;VALUE=URI;X-ADDRESS=Festgelände Nidauer Stedtlifest Hauptstrasse 46 Nidau Bern 2560 Schweiz;X-APPLE-RADIUS=500;X-TITLE=Hauptstrasse 46:geo:7.2437213,47.1246634
END:VEVENT
END:VCALENDAR