BEGIN:VCALENDAR
VERSION:2.0
PRODID:-//Seeschwalbe Fan’s Club EHC Biel-Bienne - ECPv6.15.20//NONSGML v1.0//EN
CALSCALE:GREGORIAN
METHOD:PUBLISH
X-ORIGINAL-URL:https://seeschwalbe.ch
X-WR-CALDESC:Veranstaltungen für Seeschwalbe Fan’s Club EHC Biel-Bienne
REFRESH-INTERVAL;VALUE=DURATION:PT1H
X-Robots-Tag:noindex
X-PUBLISHED-TTL:PT1H
BEGIN:VTIMEZONE
TZID:Europe/Zurich
BEGIN:DAYLIGHT
TZOFFSETFROM:+0100
TZOFFSETTO:+0200
TZNAME:CEST
DTSTART:20180325T010000
END:DAYLIGHT
BEGIN:STANDARD
TZOFFSETFROM:+0200
TZOFFSETTO:+0100
TZNAME:CET
DTSTART:20181028T010000
END:STANDARD
BEGIN:DAYLIGHT
TZOFFSETFROM:+0100
TZOFFSETTO:+0200
TZNAME:CEST
DTSTART:20190331T010000
END:DAYLIGHT
BEGIN:STANDARD
TZOFFSETFROM:+0200
TZOFFSETTO:+0100
TZNAME:CET
DTSTART:20191027T010000
END:STANDARD
BEGIN:DAYLIGHT
TZOFFSETFROM:+0100
TZOFFSETTO:+0200
TZNAME:CEST
DTSTART:20200329T010000
END:DAYLIGHT
BEGIN:STANDARD
TZOFFSETFROM:+0200
TZOFFSETTO:+0100
TZNAME:CET
DTSTART:20201025T010000
END:STANDARD
BEGIN:DAYLIGHT
TZOFFSETFROM:+0100
TZOFFSETTO:+0200
TZNAME:CEST
DTSTART:20210328T010000
END:DAYLIGHT
BEGIN:STANDARD
TZOFFSETFROM:+0200
TZOFFSETTO:+0100
TZNAME:CET
DTSTART:20211031T010000
END:STANDARD
BEGIN:DAYLIGHT
TZOFFSETFROM:+0100
TZOFFSETTO:+0200
TZNAME:CEST
DTSTART:20220327T010000
END:DAYLIGHT
BEGIN:STANDARD
TZOFFSETFROM:+0200
TZOFFSETTO:+0100
TZNAME:CET
DTSTART:20221030T010000
END:STANDARD
BEGIN:DAYLIGHT
TZOFFSETFROM:+0100
TZOFFSETTO:+0200
TZNAME:CEST
DTSTART:20230326T010000
END:DAYLIGHT
BEGIN:STANDARD
TZOFFSETFROM:+0200
TZOFFSETTO:+0100
TZNAME:CET
DTSTART:20231029T010000
END:STANDARD
BEGIN:DAYLIGHT
TZOFFSETFROM:+0100
TZOFFSETTO:+0200
TZNAME:CEST
DTSTART:20240331T010000
END:DAYLIGHT
BEGIN:STANDARD
TZOFFSETFROM:+0200
TZOFFSETTO:+0100
TZNAME:CET
DTSTART:20241027T010000
END:STANDARD
BEGIN:DAYLIGHT
TZOFFSETFROM:+0100
TZOFFSETTO:+0200
TZNAME:CEST
DTSTART:20250330T010000
END:DAYLIGHT
BEGIN:STANDARD
TZOFFSETFROM:+0200
TZOFFSETTO:+0100
TZNAME:CET
DTSTART:20251026T010000
END:STANDARD
BEGIN:DAYLIGHT
TZOFFSETFROM:+0100
TZOFFSETTO:+0200
TZNAME:CEST
DTSTART:20260329T010000
END:DAYLIGHT
BEGIN:STANDARD
TZOFFSETFROM:+0200
TZOFFSETTO:+0100
TZNAME:CET
DTSTART:20261025T010000
END:STANDARD
END:VTIMEZONE
BEGIN:VEVENT
DTSTART;TZID=Europe/Zurich:20250821T180000
DTEND;TZID=Europe/Zurich:20250821T180000
DTSTAMP:20260421T182344
CREATED:20250529T122559Z
LAST-MODIFIED:20250529T122559Z
UID:10000277-1755799200-1755799200@seeschwalbe.ch
SUMMARY:Pigsty Jack @ Live Summer 2025
DESCRIPTION:Pigsty Jack @ Seeschwalbe Live Summer 2025. Eintritt frei – Kollekte! \nTüröffnung: 18:00 Uhr \nKonzert: 20:00 Uhr \nEssen: Wurst vom Grill\, Beilage \n \nDie Rockband Pigsty Jack entstand Mitte 2008 in Biel. Das stilistisch breite Repertoire reicht von Blues über Rock\, Southern Rock\, Hardrock bis in den New-Metal\, zusammengefasst einfach „Power-Rock“. Das Übungslokal ist ein ehemaliger Schweinestall\, daher der Name PIGSTY JACK! Mit englischen Texten spielen Pigsty Jack ihre Eigenkompositionen\, gespickt mit ein paar eingängigen Covers von AC/DC bis Lynyrd Skynyrd. Seit ihrer Gründung in 2008 haben Pigsty Jack bereits eine große Anzahl Konzerte und Club-Gigs gespielt. Der groovig-rockige Gitarrensound mit ausgefeilten Arrangements\, gespielt von technisch versierten und erfahrenen Musikern\, überzeugt jedes Publikum! Für einen Abend voller Rock-Power und unterhaltsamer Live-Show ist Pigsty Jack auf jeden Fall die richtige Wahl!
URL:https://seeschwalbe.ch/event/pigsty-jack-live-summer-2025/
LOCATION:Club Loge Nidau\, Docteur Schneider-Strasse 3\, Nidau\, Bern\, 2560\, Schweiz
CATEGORIES:Agenda,Club Loge
ATTACH;FMTTYPE=image/png:https://seeschwalbe.ch/wp-content/uploads/2025/05/seeschwalbe-live-summer-2025.png
ORGANIZER;CN="Seeschwalbe Fan's Club":MAILTO:schwalbe@seeschwalbe.ch
GEO:47.1286684;7.2396847
X-APPLE-STRUCTURED-LOCATION;VALUE=URI;X-ADDRESS=Club Loge Nidau Docteur Schneider-Strasse 3 Nidau Bern 2560 Schweiz;X-APPLE-RADIUS=500;X-TITLE=Docteur Schneider-Strasse 3:geo:7.2396847,47.1286684
END:VEVENT
BEGIN:VEVENT
DTSTART;TZID=Europe/Zurich:20250703T180000
DTEND;TZID=Europe/Zurich:20250703T180000
DTSTAMP:20260421T182344
CREATED:20250529T110509Z
LAST-MODIFIED:20250529T110509Z
UID:10000276-1751565600-1751565600@seeschwalbe.ch
SUMMARY:Chicken Eye @ Live Summer 2025
DESCRIPTION:Chicken Eye @ Seeschwalbe Live Summer 2025. Eintritt frei – Kollekte! \nTüröffnung: 18:00 Uhr \nKonzert: 20:00 Uhr \nEssen: Wurst vom Grill\, Beilage \n \nChicken Eye = Akustische Gitarre + Powervoice + Unterhaltung + nackte Füsse + Coversongs aus den 60ern bis jetzt
URL:https://seeschwalbe.ch/event/chicken-eye-live-summer-2025/
LOCATION:Club Loge Nidau\, Docteur Schneider-Strasse 3\, Nidau\, Bern\, 2560\, Schweiz
CATEGORIES:Agenda,Club Loge
ATTACH;FMTTYPE=image/png:https://seeschwalbe.ch/wp-content/uploads/2025/05/seeschwalbe-live-summer-2025.png
ORGANIZER;CN="Seeschwalbe Fan's Club":MAILTO:schwalbe@seeschwalbe.ch
GEO:47.1286684;7.2396847
X-APPLE-STRUCTURED-LOCATION;VALUE=URI;X-ADDRESS=Club Loge Nidau Docteur Schneider-Strasse 3 Nidau Bern 2560 Schweiz;X-APPLE-RADIUS=500;X-TITLE=Docteur Schneider-Strasse 3:geo:7.2396847,47.1286684
END:VEVENT
BEGIN:VEVENT
DTSTART;TZID=Europe/Zurich:20250605T180000
DTEND;TZID=Europe/Zurich:20250605T180000
DTSTAMP:20260421T182344
CREATED:20250529T121810Z
LAST-MODIFIED:20250529T121810Z
UID:10000275-1749146400-1749146400@seeschwalbe.ch
SUMMARY:Pät @ Live Summer 2025
DESCRIPTION:Pät @ Seeschwalbe Live Summer 2025. Eintritt frei – Kollekte! \nTüröffnung: 18:00 Uhr \nKonzert: 20:00 Uhr \nEssen: Wurst vom Grill\, Beilage \nVor dem Konzert findet von 17.00 – 19.00 unser Gönner Apéro gemäss separater Einladung statt! \n \nReal Music For Real People – Echte Musik für echte Menschen ist das Motto von Pät. Ohne Netz und doppelten Boden. Kein Firlefanz\, sondern ehrliche\, handgemachte Musik. Nur mit Mikrofon\, Gitarre\, Bassdrum und Looper „bewaffnet“ spielt er Songs aus der ganzen Rockgeschichte\, Englisch\, Mundart\, Deutsch und Französisch\, immer dazu da\, sein Publikum zu unterhalten. Bei Päts Auftritten darf mitgesungen\, getanzt und geklatscht werden\, so das kein Bein still und kein Auge trocken bleibt. Schliesslich wird auch der eine oder andere träfe Spruch nicht fehlen.\nPät wurde bekannt als Sänger und Bassist der Bieler Funpunk Band «QL«. Mit ihnen hat er eine Platin- und drei Gold-Auszeichnungen für den Verkauf von insgesamt über 100’000 Alben erhalten. Seit 2002 bereichern «QL» mit ihren Neu-Interpretationen von Schweizer Klassikern und eigenen Songs die Schweizer Musikszene. QL ist momentan auf Tour!
URL:https://seeschwalbe.ch/event/pat-live-summer-2025/
LOCATION:Club Loge Nidau\, Docteur Schneider-Strasse 3\, Nidau\, Bern\, 2560\, Schweiz
CATEGORIES:Agenda,Club Loge
ATTACH;FMTTYPE=image/png:https://seeschwalbe.ch/wp-content/uploads/2025/05/seeschwalbe-live-summer-2025.png
ORGANIZER;CN="Seeschwalbe Fan's Club":MAILTO:schwalbe@seeschwalbe.ch
GEO:47.1286684;7.2396847
X-APPLE-STRUCTURED-LOCATION;VALUE=URI;X-ADDRESS=Club Loge Nidau Docteur Schneider-Strasse 3 Nidau Bern 2560 Schweiz;X-APPLE-RADIUS=500;X-TITLE=Docteur Schneider-Strasse 3:geo:7.2396847,47.1286684
END:VEVENT
BEGIN:VEVENT
DTSTART;TZID=Europe/Zurich:20240822T180000
DTEND;TZID=Europe/Zurich:20240822T220000
DTSTAMP:20260421T182344
CREATED:20240507T170824Z
LAST-MODIFIED:20240819T115023Z
UID:10000237-1724349600-1724364000@seeschwalbe.ch
SUMMARY:Seeschwalbe Grillkurs
DESCRIPTION:Seeschwalbe Grillkurs by Rey on Fire \nThema: How to grill the perfekt Steak inkl. Beilagen! (Gasgrill\, Keramikgrill)\nTeilnehmer: mindestens 12 Personen\nProgramm: \n\n18.00 – 18.30 Uhr – Welcome Apéro inkl. Anleitung durch den Abend\n18.30 – 20.45 – Grillen\, Zubereiten und Zeigen\, wie es geht. Easy going BBQ-Steak inkl. Beilagen\n20.45 – 22.00 – Essen\, Trinken sowie Rundgang Rey on Fire Shop\n\nPreis:\nCHF 120.00 inkl. Welcome Apéro\, Mineral & Bier\, zubereitetes Fleisch inkl. Beilagen. \nWein & Spirituosen werden separat verrechnet. \nAnmeldung erforderlich!
URL:https://seeschwalbe.ch/event/seeschwalbe-grillkurs/
LOCATION:Rey on Fire\, Orpundstrasse 8\, Biel\, Bern\, 2504\, Schweiz
CATEGORIES:Agenda,Sonstige
ATTACH;FMTTYPE=image/jpeg:https://seeschwalbe.ch/wp-content/uploads/2024/05/rey-on-fire-grillkurs.jpg
ORGANIZER;CN="Seeschwalbe Fan's Club":MAILTO:schwalbe@seeschwalbe.ch
GEO:47.145209;7.2736121
X-APPLE-STRUCTURED-LOCATION;VALUE=URI;X-ADDRESS=Rey on Fire Orpundstrasse 8 Biel Bern 2504 Schweiz;X-APPLE-RADIUS=500;X-TITLE=Orpundstrasse 8:geo:7.2736121,47.145209
END:VEVENT
BEGIN:VEVENT
DTSTART;TZID=Europe/Zurich:20230811T193000
DTEND;TZID=Europe/Zurich:20230811T193000
DTSTAMP:20260421T182344
CREATED:20230508T071359Z
LAST-MODIFIED:20230720T125552Z
UID:10000181-1691782200-1691782200@seeschwalbe.ch
SUMMARY:Summer Night 2023
DESCRIPTION:Seeschwalbe Summer Night 2023\n\n\n\nNeueröffnung Club Loge nach Umbau\nDrinks\nSangria Bar\nGrill\nDJ\nLivemusik mit 25 Rock Avenue\n\n\n\nFür die Helfer:innen vom Stedtlifescht 2023\, Seeschwalbe Mitglieder und Seeschwalbe Sponsoren! \nWo: Club Loge Nidau \nTüröffnung: 19:00 Uhr
URL:https://seeschwalbe.ch/event/summernight-2023/
LOCATION:Club Loge Nidau\, Docteur Schneider-Strasse 3\, Nidau\, Bern\, 2560\, Schweiz
CATEGORIES:Agenda,Club Loge
ATTACH;FMTTYPE=image/jpeg:https://seeschwalbe.ch/wp-content/uploads/2019/06/Sommergrill.jpg
ORGANIZER;CN="Seeschwalbe Fan's Club":MAILTO:schwalbe@seeschwalbe.ch
GEO:47.1286684;7.2396847
X-APPLE-STRUCTURED-LOCATION;VALUE=URI;X-ADDRESS=Club Loge Nidau Docteur Schneider-Strasse 3 Nidau Bern 2560 Schweiz;X-APPLE-RADIUS=500;X-TITLE=Docteur Schneider-Strasse 3:geo:7.2396847,47.1286684
END:VEVENT
BEGIN:VEVENT
DTSTART;TZID=Europe/Zurich:20221202T200000
DTEND;TZID=Europe/Zurich:20221202T200000
DTSTAMP:20260421T182344
CREATED:20220914T101506Z
LAST-MODIFIED:20221118T110304Z
UID:10000164-1670011200-1670011200@seeschwalbe.ch
SUMMARY:Public Viewing FIFA WM 2022 Serbien - Schweiz
DESCRIPTION:FIFA WM 2022 Serbien – Schweiz\nStadion Stimmung in der Club Loge! \nSieh dir das FIFA WM 2022 Gruppenspiel Serbien – Schweiz auf Grossleinwand an und fiebere mit unserer Schweizer Nati mit. \nWo: Club Loge Nidau \nTüröffnung: 19:00 Uhr
URL:https://seeschwalbe.ch/event/public-viewing-fifa-wm-2022-serbien-schweiz/
LOCATION:Club Loge Nidau\, Docteur Schneider-Strasse 3\, Nidau\, Bern\, 2560\, Schweiz
CATEGORIES:Agenda,Club Loge
ORGANIZER;CN="Seeschwalbe Fan's Club":MAILTO:schwalbe@seeschwalbe.ch
GEO:47.1286684;7.2396847
X-APPLE-STRUCTURED-LOCATION;VALUE=URI;X-ADDRESS=Club Loge Nidau Docteur Schneider-Strasse 3 Nidau Bern 2560 Schweiz;X-APPLE-RADIUS=500;X-TITLE=Docteur Schneider-Strasse 3:geo:7.2396847,47.1286684
END:VEVENT
BEGIN:VEVENT
DTSTART;TZID=Europe/Zurich:20221028T223000
DTEND;TZID=Europe/Zurich:20221029T020000
DTSTAMP:20260421T182344
CREATED:20220914T092707Z
LAST-MODIFIED:20230508T065244Z
UID:10000106-1666996200-1667008800@seeschwalbe.ch
SUMMARY:Oktoberfest
DESCRIPTION:Oktoberfest\nKomm nach dem Match EHC Biel-Bienne – SCL Tigers an unser Oktoberfest! \nGeniesse mit Freunden eine Mass Bier\, ein Brezel und den rockigen Livesound von Pät! \n \nWo: Club Loge Nidau \nTüröffnung: 30 Minuten nach Spielschluss
URL:https://seeschwalbe.ch/event/oktoberfest-2022-10-28/
LOCATION:Club Loge Nidau\, Docteur Schneider-Strasse 3\, Nidau\, Bern\, 2560\, Schweiz
CATEGORIES:Agenda,Club Loge
ATTACH;FMTTYPE=image/jpeg:https://seeschwalbe.ch/wp-content/uploads/2019/08/oktoberfest.jpg
ORGANIZER;CN="Seeschwalbe Fan's Club":MAILTO:schwalbe@seeschwalbe.ch
GEO:47.1286684;7.2396847
X-APPLE-STRUCTURED-LOCATION;VALUE=URI;X-ADDRESS=Club Loge Nidau Docteur Schneider-Strasse 3 Nidau Bern 2560 Schweiz;X-APPLE-RADIUS=500;X-TITLE=Docteur Schneider-Strasse 3:geo:7.2396847,47.1286684
END:VEVENT
BEGIN:VEVENT
DTSTART;VALUE=DATE:20220812
DTEND;VALUE=DATE:20220815
DTSTAMP:20260421T182344
CREATED:20210825T090007Z
LAST-MODIFIED:20220510T105204Z
UID:10000150-1660262400-1660521599@seeschwalbe.ch
SUMMARY:Dolomitencup 2022
DESCRIPTION:
URL:https://seeschwalbe.ch/event/dolomitencup-2022/
LOCATION:Würth Arena\, Autostrada del Brennero 7\, Egna\, Südtirol\, 39044\, Italien
CATEGORIES:Agenda,Supporterfahrten
ORGANIZER;CN="Seeschwalbe Fan's Club":MAILTO:schwalbe@seeschwalbe.ch
GEO:46.3197528;11.2693368
X-APPLE-STRUCTURED-LOCATION;VALUE=URI;X-ADDRESS=Würth Arena Autostrada del Brennero 7 Egna Südtirol 39044 Italien;X-APPLE-RADIUS=500;X-TITLE=Autostrada del Brennero 7:geo:11.2693368,46.3197528
END:VEVENT
BEGIN:VEVENT
DTSTART;TZID=Europe/Zurich:20200215T180000
DTEND;TZID=Europe/Zurich:20200215T180000
DTSTAMP:20260421T182344
CREATED:20180917T174859Z
LAST-MODIFIED:20200614T150924Z
UID:10000112-1581789600-1581789600@seeschwalbe.ch
SUMMARY:Pre-Match-Dinner
DESCRIPTION:Geniesse vor dem Spiel gegen den SC Bern eine leckere Berner Platte à discretion. Anmeldung erforderlich. \nTüröffnung: 17:00 Uhr \nPreis Essen: CHF 25.00 (exkl. Getränke)
URL:https://seeschwalbe.ch/event/pre-match-dinner-2020-02-15/
LOCATION:Club Loge Nidau\, Docteur Schneider-Strasse 3\, Nidau\, Bern\, 2560\, Schweiz
CATEGORIES:Agenda,Club Loge
ATTACH;FMTTYPE=image/jpeg:https://seeschwalbe.ch/wp-content/uploads/2018/09/Berner_Platte_2010.jpg
ORGANIZER;CN="Seeschwalbe Fan's Club":MAILTO:schwalbe@seeschwalbe.ch
GEO:47.1286684;7.2396847
X-APPLE-STRUCTURED-LOCATION;VALUE=URI;X-ADDRESS=Club Loge Nidau Docteur Schneider-Strasse 3 Nidau Bern 2560 Schweiz;X-APPLE-RADIUS=500;X-TITLE=Docteur Schneider-Strasse 3:geo:7.2396847,47.1286684
END:VEVENT
BEGIN:VEVENT
DTSTART;TZID=Europe/Zurich:20191201T110000
DTEND;TZID=Europe/Zurich:20191201T110000
DTSTAMP:20260421T182344
CREATED:20180917T174859Z
LAST-MODIFIED:20200614T151613Z
UID:10000111-1575198000-1575198000@seeschwalbe.ch
SUMMARY:Seeschwalbe Brunch
DESCRIPTION:Geniesse vor dem Spiel gegen die Rapperswil-Jona Lakers einen reichhaltigen Brunch. Anmeldung erforderlich. \nEs gibt Café\, Ovomaltine\, Tee\, Orangensaft\, Zopf\, Brot\, Toast\, Rösti\, Müesli\, Joghurt\, Käse- und Fleischplatte. \nNach dem Brunch gibt es ab ca. 13:00 Uhr einen Lottomatch mit tollen Preisen. \nTüröffnung: 11:00 Uhr \nPreise:\nErwachsene: CHF 22.50\nKinder: CHF 12.00 (bis und mit 14 Jahre)
URL:https://seeschwalbe.ch/event/brunch-2019-12-01/
LOCATION:Club Loge Nidau\, Docteur Schneider-Strasse 3\, Nidau\, Bern\, 2560\, Schweiz
CATEGORIES:Agenda,Club Loge
ATTACH;FMTTYPE=image/jpeg:https://seeschwalbe.ch/wp-content/uploads/2019/08/breakfast-2065515_640.jpg
ORGANIZER;CN="Seeschwalbe Fan's Club":MAILTO:schwalbe@seeschwalbe.ch
GEO:47.1286684;7.2396847
X-APPLE-STRUCTURED-LOCATION;VALUE=URI;X-ADDRESS=Club Loge Nidau Docteur Schneider-Strasse 3 Nidau Bern 2560 Schweiz;X-APPLE-RADIUS=500;X-TITLE=Docteur Schneider-Strasse 3:geo:7.2396847,47.1286684
END:VEVENT
END:VCALENDAR