BEGIN:VCALENDAR
VERSION:2.0
PRODID:-//Seeschwalbe Fan’s Club EHC Biel-Bienne - ECPv6.15.20//NONSGML v1.0//EN
CALSCALE:GREGORIAN
METHOD:PUBLISH
X-WR-CALNAME:Seeschwalbe Fan’s Club EHC Biel-Bienne
X-ORIGINAL-URL:https://seeschwalbe.ch
X-WR-CALDESC:Veranstaltungen für Seeschwalbe Fan’s Club EHC Biel-Bienne
REFRESH-INTERVAL;VALUE=DURATION:PT1H
X-Robots-Tag:noindex
X-PUBLISHED-TTL:PT1H
BEGIN:VTIMEZONE
TZID:Europe/Zurich
BEGIN:DAYLIGHT
TZOFFSETFROM:+0100
TZOFFSETTO:+0200
TZNAME:CEST
DTSTART:20240331T010000
END:DAYLIGHT
BEGIN:STANDARD
TZOFFSETFROM:+0200
TZOFFSETTO:+0100
TZNAME:CET
DTSTART:20241027T010000
END:STANDARD
BEGIN:DAYLIGHT
TZOFFSETFROM:+0100
TZOFFSETTO:+0200
TZNAME:CEST
DTSTART:20250330T010000
END:DAYLIGHT
BEGIN:STANDARD
TZOFFSETFROM:+0200
TZOFFSETTO:+0100
TZNAME:CET
DTSTART:20251026T010000
END:STANDARD
BEGIN:DAYLIGHT
TZOFFSETFROM:+0100
TZOFFSETTO:+0200
TZNAME:CEST
DTSTART:20260329T010000
END:DAYLIGHT
BEGIN:STANDARD
TZOFFSETFROM:+0200
TZOFFSETTO:+0100
TZNAME:CET
DTSTART:20261025T010000
END:STANDARD
BEGIN:DAYLIGHT
TZOFFSETFROM:+0100
TZOFFSETTO:+0200
TZNAME:CEST
DTSTART:20270328T010000
END:DAYLIGHT
BEGIN:STANDARD
TZOFFSETFROM:+0200
TZOFFSETTO:+0100
TZNAME:CET
DTSTART:20271031T010000
END:STANDARD
END:VTIMEZONE
BEGIN:VEVENT
DTSTART;TZID=Europe/Zurich:20260307T104500
DTEND;TZID=Europe/Zurich:20260307T114500
DTSTAMP:20260421T174306
CREATED:20251204T151107Z
LAST-MODIFIED:20260227T101511Z
UID:10000320-1772880300-1772883900@seeschwalbe.ch
SUMMARY:Besuch des Abschlusstrainings
DESCRIPTION:Besuch des Abschluss Trainings des EHC Biel-Bienne \nWo: Tissot Arena \nZeit: 10.45 – 11.45 Uhr \nTreffpunkt: Im Foyer des Eisstadions \nProgramm: \n\n10.45 Uhr – Eintreffen und heisse Welcome-Schoggi für Kids\nanschl. – Besuch des Abschlusstrainings mit Erkl. eines Mitglieds des Staffs\n11.45 Uhr – ca. Ende der Veranstaltung
URL:https://seeschwalbe.ch/event/besuch-des-abschlusstrainings/
LOCATION:Tissot Arena Biel-Bienne\, Boulevard des Sports 18\, Biel-Bienne\, Bern\, 2504\, Schweiz
CATEGORIES:Kids Club
ORGANIZER;CN="Kids Club Seeschwalbe Fan's Club":MAILTO:kidsclub@seeschwalbe.ch
GEO:47.1552128;7.2809711
X-APPLE-STRUCTURED-LOCATION;VALUE=URI;X-ADDRESS=Tissot Arena Biel-Bienne Boulevard des Sports 18 Biel-Bienne Bern 2504 Schweiz;X-APPLE-RADIUS=500;X-TITLE=Boulevard des Sports 18:geo:7.2809711,47.1552128
END:VEVENT
BEGIN:VEVENT
DTSTART;TZID=Europe/Zurich:20260222T133000
DTEND;TZID=Europe/Zurich:20260222T133000
DTSTAMP:20260421T174306
CREATED:20260121T142945Z
LAST-MODIFIED:20260410T150851Z
UID:10000322-1771767000-1771767000@seeschwalbe.ch
SUMMARY:Teilnahme am Umzug
DESCRIPTION:Teilnahme am Umzug der Bieler Fasnacht auf dem Seeschwalbe-Fahrzeug \nBesammlung: Zentralstrasse Biel\, neben der Berner Kantonalbank \nZeit: 13:30 Uhr \nBesonderes: Die Kinder sollten etwas vom EHC Biel tragen\, z.B. einen Schal\, ein Shirt oder eine Mütze.
URL:https://seeschwalbe.ch/event/teilnahme-am-umzug/
LOCATION:Innenstadt Biel\, Bahnhofstrasse 11\, Biel\, Bern\, 2502\, Schweiz
CATEGORIES:Kids Club
ORGANIZER;CN="Kids Club Seeschwalbe Fan's Club":MAILTO:kidsclub@seeschwalbe.ch
GEO:47.1344413;7.2436973
X-APPLE-STRUCTURED-LOCATION;VALUE=URI;X-ADDRESS=Innenstadt Biel Bahnhofstrasse 11 Biel Bern 2502 Schweiz;X-APPLE-RADIUS=500;X-TITLE=Bahnhofstrasse 11:geo:7.2436973,47.1344413
END:VEVENT
BEGIN:VEVENT
DTSTART;TZID=Europe/Zurich:20260221T133000
DTEND;TZID=Europe/Zurich:20260221T133000
DTSTAMP:20260421T174306
CREATED:20251204T150346Z
LAST-MODIFIED:20260203T113122Z
UID:10000319-1771680600-1771680600@seeschwalbe.ch
SUMMARY:Teilnahme am Kinderumzug
DESCRIPTION:Teilnahme am Kinderumzug der Bieler Fasnacht auf dem Seeschwalbe-Fahrzeug \nBesammlung: Zentralstrasse Biel\, neben der Berner Kantonalbank \nZeit: 13:30 Uhr \nBesonderes: Die Kinder sollten etwas vom EHC Biel tragen\, z.B. einen Schal\, ein Shirt oder eine Mütze.
URL:https://seeschwalbe.ch/event/teilnahme-am-kinderumzug/
LOCATION:Innenstadt Biel\, Bahnhofstrasse 11\, Biel\, Bern\, 2502\, Schweiz
CATEGORIES:Kids Club
ORGANIZER;CN="Kids Club Seeschwalbe Fan's Club":MAILTO:kidsclub@seeschwalbe.ch
GEO:47.1344413;7.2436973
X-APPLE-STRUCTURED-LOCATION;VALUE=URI;X-ADDRESS=Innenstadt Biel Bahnhofstrasse 11 Biel Bern 2502 Schweiz;X-APPLE-RADIUS=500;X-TITLE=Bahnhofstrasse 11:geo:7.2436973,47.1344413
END:VEVENT
BEGIN:VEVENT
DTSTART;TZID=Europe/Zurich:20251220T180000
DTEND;TZID=Europe/Zurich:20251220T194500
DTSTAMP:20260421T174306
CREATED:20251204T145209Z
LAST-MODIFIED:20251216T063754Z
UID:10000318-1766253600-1766259900@seeschwalbe.ch
SUMMARY:Gratis Punch
DESCRIPTION:Gratispunch an der Seeschwalbe Glühwein-Bar vor dem Spiel gegen den Genève-Servette HC \nWo: Tissot Arena \nZeit: 18:00 – 19.45 Uhr
URL:https://seeschwalbe.ch/event/gratis-punch/
LOCATION:Tissot Arena Biel-Bienne\, Boulevard des Sports 18\, Biel-Bienne\, Bern\, 2504\, Schweiz
CATEGORIES:Kids Club
ORGANIZER;CN="Kids Club Seeschwalbe Fan's Club":MAILTO:kidsclub@seeschwalbe.ch
GEO:47.1552128;7.2809711
X-APPLE-STRUCTURED-LOCATION;VALUE=URI;X-ADDRESS=Tissot Arena Biel-Bienne Boulevard des Sports 18 Biel-Bienne Bern 2504 Schweiz;X-APPLE-RADIUS=500;X-TITLE=Boulevard des Sports 18:geo:7.2809711,47.1552128
END:VEVENT
BEGIN:VEVENT
DTSTART;TZID=Europe/Zurich:20251105T143000
DTEND;TZID=Europe/Zurich:20251105T143000
DTSTAMP:20260421T174306
CREATED:20250715T091432Z
LAST-MODIFIED:20250925T093520Z
UID:10000292-1762353000-1762353000@seeschwalbe.ch
SUMMARY:Kids Club Pressekonferenz
DESCRIPTION:Pressekonferenz mit Robin Grossmann und Johnny Kneubühler. \nKinder fragen Spieler aus. \nWo: Club Loge Nidau \nZeit: ab 14:30 Uhr
URL:https://seeschwalbe.ch/event/kids-club-pressekonferenz/
LOCATION:Club Loge Nidau\, Docteur Schneider-Strasse 3\, Nidau\, Bern\, 2560\, Schweiz
CATEGORIES:Kids Club
ORGANIZER;CN="Kids Club Seeschwalbe Fan's Club":MAILTO:kidsclub@seeschwalbe.ch
GEO:47.1286684;7.2396847
X-APPLE-STRUCTURED-LOCATION;VALUE=URI;X-ADDRESS=Club Loge Nidau Docteur Schneider-Strasse 3 Nidau Bern 2560 Schweiz;X-APPLE-RADIUS=500;X-TITLE=Docteur Schneider-Strasse 3:geo:7.2396847,47.1286684
END:VEVENT
BEGIN:VEVENT
DTSTART;TZID=Europe/Zurich:20251008T150000
DTEND;TZID=Europe/Zurich:20251008T170000
DTSTAMP:20260421T174306
CREATED:20250715T090527Z
LAST-MODIFIED:20250925T073416Z
UID:10000291-1759935600-1759942800@seeschwalbe.ch
SUMMARY:Vitaparcours
DESCRIPTION:Vitaparcours mit Beat Forster & Mathieu Tschantré \nWo: Schulhaus Linde\, Vitaparcours Biel – Längholz \nZeit: 15:00 – 17.00 Uhr
URL:https://seeschwalbe.ch/event/vitaparcours-mit-beat-forster-und-mathieu-tschantre/
LOCATION:Schulhaus Linde\, Scheibenweg 45\, Biel\, Bern\, 2503\, Schweiz
CATEGORIES:Kids Club
ORGANIZER;CN="Kids Club Seeschwalbe Fan's Club":MAILTO:kidsclub@seeschwalbe.ch
GEO:47.1382854;7.2679145
X-APPLE-STRUCTURED-LOCATION;VALUE=URI;X-ADDRESS=Schulhaus Linde Scheibenweg 45 Biel Bern 2503 Schweiz;X-APPLE-RADIUS=500;X-TITLE=Scheibenweg 45:geo:7.2679145,47.1382854
END:VEVENT
BEGIN:VEVENT
DTSTART;TZID=Europe/Zurich:20251005T113000
DTEND;TZID=Europe/Zurich:20251005T113000
DTSTAMP:20260421T174306
CREATED:20250715T090245Z
LAST-MODIFIED:20250919T064606Z
UID:10000290-1759663800-1759663800@seeschwalbe.ch
SUMMARY:EHC Biel Family Day
DESCRIPTION:Wo: Tissot Arena \nZeit: ab 11:30 Uhr
URL:https://seeschwalbe.ch/event/ehc-biel-family-day/
LOCATION:Tissot Arena Biel-Bienne\, Boulevard des Sports 18\, Biel-Bienne\, Bern\, 2504\, Schweiz
CATEGORIES:Kids Club
ORGANIZER;CN="Kids Club Seeschwalbe Fan's Club":MAILTO:kidsclub@seeschwalbe.ch
GEO:47.1552128;7.2809711
X-APPLE-STRUCTURED-LOCATION;VALUE=URI;X-ADDRESS=Tissot Arena Biel-Bienne Boulevard des Sports 18 Biel-Bienne Bern 2504 Schweiz;X-APPLE-RADIUS=500;X-TITLE=Boulevard des Sports 18:geo:7.2809711,47.1552128
END:VEVENT
BEGIN:VEVENT
DTSTART;TZID=Europe/Zurich:20250920T194500
DTEND;TZID=Europe/Zurich:20250920T194500
DTSTAMP:20260421T174306
CREATED:20250715T090050Z
LAST-MODIFIED:20250828T072853Z
UID:10000289-1758397500-1758397500@seeschwalbe.ch
SUMMARY:EHC Biel - HC Ambrì-Piotta
DESCRIPTION:Wo: Tissot Arena \nZeit: 19:45 Uhr
URL:https://seeschwalbe.ch/event/ehc-biel-hc-ambri-piotta/
LOCATION:Tissot Arena Biel-Bienne\, Boulevard des Sports 18\, Biel-Bienne\, Bern\, 2504\, Schweiz
CATEGORIES:Kids Club
ORGANIZER;CN="Kids Club Seeschwalbe Fan's Club":MAILTO:kidsclub@seeschwalbe.ch
GEO:47.1552128;7.2809711
X-APPLE-STRUCTURED-LOCATION;VALUE=URI;X-ADDRESS=Tissot Arena Biel-Bienne Boulevard des Sports 18 Biel-Bienne Bern 2504 Schweiz;X-APPLE-RADIUS=500;X-TITLE=Boulevard des Sports 18:geo:7.2809711,47.1552128
END:VEVENT
END:VCALENDAR