BEGIN:VCALENDAR
VERSION:2.0
PRODID:-//Seeschwalbe Fan’s Club EHC Biel-Bienne - ECPv6.15.20//NONSGML v1.0//EN
CALSCALE:GREGORIAN
METHOD:PUBLISH
X-ORIGINAL-URL:https://seeschwalbe.ch
X-WR-CALDESC:Veranstaltungen für Seeschwalbe Fan’s Club EHC Biel-Bienne
REFRESH-INTERVAL;VALUE=DURATION:PT1H
X-Robots-Tag:noindex
X-PUBLISHED-TTL:PT1H
BEGIN:VTIMEZONE
TZID:Europe/Zurich
BEGIN:DAYLIGHT
TZOFFSETFROM:+0100
TZOFFSETTO:+0200
TZNAME:CEST
DTSTART:20240331T010000
END:DAYLIGHT
BEGIN:STANDARD
TZOFFSETFROM:+0200
TZOFFSETTO:+0100
TZNAME:CET
DTSTART:20241027T010000
END:STANDARD
BEGIN:DAYLIGHT
TZOFFSETFROM:+0100
TZOFFSETTO:+0200
TZNAME:CEST
DTSTART:20250330T010000
END:DAYLIGHT
BEGIN:STANDARD
TZOFFSETFROM:+0200
TZOFFSETTO:+0100
TZNAME:CET
DTSTART:20251026T010000
END:STANDARD
BEGIN:DAYLIGHT
TZOFFSETFROM:+0100
TZOFFSETTO:+0200
TZNAME:CEST
DTSTART:20260329T010000
END:DAYLIGHT
BEGIN:STANDARD
TZOFFSETFROM:+0200
TZOFFSETTO:+0100
TZNAME:CET
DTSTART:20261025T010000
END:STANDARD
END:VTIMEZONE
BEGIN:VEVENT
DTSTART;TZID=Europe/Zurich:20251213T123000
DTEND;TZID=Europe/Zurich:20251213T123000
DTSTAMP:20260421T170212
CREATED:20250716T093009Z
LAST-MODIFIED:20250716T093039Z
UID:10000296-1765629000-1765629000@seeschwalbe.ch
SUMMARY:4. Seeschwalbe Darts Open
DESCRIPTION:Steeldart 501 Double Out \nTurnierform richtet sich an der Anzahl der Teilnehmer. \nDies ist ein Plauschturnier. Jede und Jeder kann mitmachen. \nWo: Club Loge Nidau \nEinspielen ab: 12:30 Uhr \nGame on: 13:30 Uhr \nStartgeld: CHF 15.00 \nAchtung: Teilnehmerzahl begrenzt.
URL:https://seeschwalbe.ch/event/seeschwalbe-darts-open-2025/
LOCATION:Club Loge Nidau\, Docteur Schneider-Strasse 3\, Nidau\, Bern\, 2560\, Schweiz
CATEGORIES:Agenda,Club Loge,Dartturniere
ATTACH;FMTTYPE=image/jpeg:https://seeschwalbe.ch/wp-content/uploads/2022/12/dart-g20277fe9f_1920.jpg
ORGANIZER;CN="Bienne Darts":MAILTO:darts@biennedarts.ch
GEO:47.1286684;7.2396847
X-APPLE-STRUCTURED-LOCATION;VALUE=URI;X-ADDRESS=Club Loge Nidau Docteur Schneider-Strasse 3 Nidau Bern 2560 Schweiz;X-APPLE-RADIUS=500;X-TITLE=Docteur Schneider-Strasse 3:geo:7.2396847,47.1286684
END:VEVENT
END:VCALENDAR