BEGIN:VCALENDAR
VERSION:2.0
PRODID:-//Seeschwalbe Fan’s Club EHC Biel-Bienne - ECPv6.15.20//NONSGML v1.0//EN
CALSCALE:GREGORIAN
METHOD:PUBLISH
X-WR-CALNAME:Seeschwalbe Fan’s Club EHC Biel-Bienne
X-ORIGINAL-URL:https://seeschwalbe.ch
X-WR-CALDESC:Veranstaltungen für Seeschwalbe Fan’s Club EHC Biel-Bienne
REFRESH-INTERVAL;VALUE=DURATION:PT1H
X-Robots-Tag:noindex
X-PUBLISHED-TTL:PT1H
BEGIN:VTIMEZONE
TZID:Europe/Zurich
BEGIN:DAYLIGHT
TZOFFSETFROM:+0100
TZOFFSETTO:+0200
TZNAME:CEST
DTSTART:20250330T010000
END:DAYLIGHT
BEGIN:STANDARD
TZOFFSETFROM:+0200
TZOFFSETTO:+0100
TZNAME:CET
DTSTART:20251026T010000
END:STANDARD
BEGIN:DAYLIGHT
TZOFFSETFROM:+0100
TZOFFSETTO:+0200
TZNAME:CEST
DTSTART:20260329T010000
END:DAYLIGHT
BEGIN:STANDARD
TZOFFSETFROM:+0200
TZOFFSETTO:+0100
TZNAME:CET
DTSTART:20261025T010000
END:STANDARD
BEGIN:DAYLIGHT
TZOFFSETFROM:+0100
TZOFFSETTO:+0200
TZNAME:CEST
DTSTART:20270328T010000
END:DAYLIGHT
BEGIN:STANDARD
TZOFFSETFROM:+0200
TZOFFSETTO:+0100
TZNAME:CET
DTSTART:20271031T010000
END:STANDARD
END:VTIMEZONE
BEGIN:VEVENT
DTSTART;VALUE=DATE:20260529
DTEND;VALUE=DATE:20260531
DTSTAMP:20260421T105747
CREATED:20250716T092251Z
LAST-MODIFIED:20260417T065647Z
UID:10000294-1780012800-1780185599@seeschwalbe.ch
SUMMARY:Nidauer Stedtlifest 2026
DESCRIPTION:  \nBesuche uns am Nidauer Stedtlifest 2026. \nFreitag 29. Mai 2025 ab 19:00 Uhr \n\n\n\nFischessen\nBar\nMusik mit DJ Swordfish\n\n\n\nSamstag 30. Mai 2025 ab 9:00 Uhr \n\n\n\nFischessen\nBar\nMusik mit DJ F Le Boiteux\n\n\n\nWie jedes Jahr suchen wir Helferinnen und Helfer für das Nidauer Stedtlifescht. Interessiert können sich direkt auf unserer Website anmelden. \nACHTUNG: Der Seeschwalbe Stand wird wiederum Cashless sein\, d.h. es werden grundsätzlich nur noch Zahlungen per Twint und Karte akzeptiert.
URL:https://seeschwalbe.ch/event/nidauer-stedtlifest-2026/
LOCATION:Festgelände Nidauer Stedtlifest\, Hauptstrasse 46\, Nidau\, Bern\, 2560\, Schweiz
CATEGORIES:Agenda,Sonstige
ATTACH;FMTTYPE=image/jpeg:https://seeschwalbe.ch/wp-content/uploads/2019/01/stedtlifest.jpg
ORGANIZER;CN="Seeschwalbe Fan's Club":MAILTO:schwalbe@seeschwalbe.ch
GEO:47.1246634;7.2437213
X-APPLE-STRUCTURED-LOCATION;VALUE=URI;X-ADDRESS=Festgelände Nidauer Stedtlifest Hauptstrasse 46 Nidau Bern 2560 Schweiz;X-APPLE-RADIUS=500;X-TITLE=Hauptstrasse 46:geo:7.2437213,47.1246634
END:VEVENT
BEGIN:VEVENT
DTSTART;TZID=Europe/Zurich:20260611T190000
DTEND;TZID=Europe/Zurich:20260611T190000
DTSTAMP:20260421T105747
CREATED:20260319T113553Z
LAST-MODIFIED:20260410T150851Z
UID:10000325-1781204400-1781204400@seeschwalbe.ch
SUMMARY:36. ordentliche Generalversammlung
DESCRIPTION:Details und Traktanden gemäss separater Einladung. Anmeldung erforderlich. \nTüröffnung: 18:00 Uhr
URL:https://seeschwalbe.ch/event/gv-2026/
LOCATION:Club Loge Nidau\, Docteur Schneider-Strasse 3\, Nidau\, Bern\, 2560\, Schweiz
CATEGORIES:Agenda,Club Loge
ATTACH;FMTTYPE=image/png:https://seeschwalbe.ch/wp-content/uploads/2018/07/seeschwalbe_logo_web.png
ORGANIZER;CN="Seeschwalbe Fan's Club":MAILTO:schwalbe@seeschwalbe.ch
GEO:47.1286684;7.2396847
X-APPLE-STRUCTURED-LOCATION;VALUE=URI;X-ADDRESS=Club Loge Nidau Docteur Schneider-Strasse 3 Nidau Bern 2560 Schweiz;X-APPLE-RADIUS=500;X-TITLE=Docteur Schneider-Strasse 3:geo:7.2396847,47.1286684
END:VEVENT
BEGIN:VEVENT
DTSTART;TZID=Europe/Zurich:20260818T203000
DTEND;TZID=Europe/Zurich:20260818T203000
DTSTAMP:20260421T105747
CREATED:20260319T115728Z
LAST-MODIFIED:20260410T150851Z
UID:10000326-1787085000-1787085000@seeschwalbe.ch
SUMMARY:Seeschwalbe Openair Kino
DESCRIPTION:Seeschwalbe Openair Kino \nWir zeigen den Hockeyfilm Miracle – Das Wunder von Lake Placid \n„Hockey-Trainer Herb Brooks verwandelt einen bunten Haufen College-Athleten bei den Olympischen Winterspielen von 1980 in ernst zu nehmende Gegner.“ \nZur Stärkung kann ein Imbiss vom Grill genossen werden. \nWo: Terasse Club Loge Nidau (bei Schlechtwetter in der Club Loge) \nTüröffnung: 18:00 Uhr
URL:https://seeschwalbe.ch/event/openair-kino/
LOCATION:Club Loge Nidau\, Docteur Schneider-Strasse 3\, Nidau\, Bern\, 2560\, Schweiz
CATEGORIES:Agenda,Club Loge
ATTACH;FMTTYPE=image/jpeg:https://seeschwalbe.ch/wp-content/uploads/2026/03/openair-kino.jpg
ORGANIZER;CN="Seeschwalbe Fan's Club":MAILTO:schwalbe@seeschwalbe.ch
GEO:47.1286684;7.2396847
X-APPLE-STRUCTURED-LOCATION;VALUE=URI;X-ADDRESS=Club Loge Nidau Docteur Schneider-Strasse 3 Nidau Bern 2560 Schweiz;X-APPLE-RADIUS=500;X-TITLE=Docteur Schneider-Strasse 3:geo:7.2396847,47.1286684
END:VEVENT
BEGIN:VEVENT
DTSTART;TZID=Europe/Zurich:20260820T181500
DTEND;TZID=Europe/Zurich:20260820T220000
DTSTAMP:20260421T105747
CREATED:20260410T150435Z
LAST-MODIFIED:20260410T165146Z
UID:10000327-1787249700-1787263200@seeschwalbe.ch
SUMMARY:5. Plausch Platzger Turnier
DESCRIPTION:Das 5. Seeschwalbe Plausch Platzger Turnier für Jung und Alt! \nZur Stärkung gibt es eine feine Bratwurst vom Grill mit Brot. \nEs gibt tolle Siegerpreise zu gewinnen! \nTreffpunkt: ab 17:00 Uhr \nStart: ab 18:15 Uhr \nStartgeld: CHF 15.00 (inkl. Bratwurst und Brot\, exkl. Getränke) \nAnmeldung erforderlich!
URL:https://seeschwalbe.ch/event/plausch-platzger-turnier-2026/
LOCATION:Platzger Club Biel\, Heideweg 71\, Biel\, Bern\, 2503\, Schweiz
CATEGORIES:Agenda,Sonstige
ATTACH;FMTTYPE=image/jpeg:https://seeschwalbe.ch/wp-content/uploads/2022/07/platzgen-1.jpg
ORGANIZER;CN="Seeschwalbe Fan's Club":MAILTO:schwalbe@seeschwalbe.ch
GEO:47.1226546;7.2553085
X-APPLE-STRUCTURED-LOCATION;VALUE=URI;X-ADDRESS=Platzger Club Biel Heideweg 71 Biel Bern 2503 Schweiz;X-APPLE-RADIUS=500;X-TITLE=Heideweg 71:geo:7.2553085,47.1226546
END:VEVENT
END:VCALENDAR